BEGIN:VCALENDAR
VERSION:2.0
PRODID:-//NCI FM - ECPv6.8.3//NONSGML v1.0//EN
CALSCALE:GREGORIAN
METHOD:PUBLISH
X-WR-CALNAME:NCI FM
X-ORIGINAL-URL:https://www.ncifm.com
X-WR-CALDESC:Events for NCI FM
REFRESH-INTERVAL;VALUE=DURATION:PT1H
X-Robots-Tag:noindex
X-PUBLISHED-TTL:PT1H
BEGIN:VTIMEZONE
TZID:America/Winnipeg
BEGIN:DAYLIGHT
TZOFFSETFROM:-0600
TZOFFSETTO:-0500
TZNAME:CDT
DTSTART:20250309T080000
END:DAYLIGHT
BEGIN:STANDARD
TZOFFSETFROM:-0500
TZOFFSETTO:-0600
TZNAME:CST
DTSTART:20251102T070000
END:STANDARD
END:VTIMEZONE
BEGIN:VEVENT
DTSTART;VALUE=DATE:20250905
DTEND;VALUE=DATE:20250908
DTSTAMP:20260421T065129
CREATED:20250820T185826Z
LAST-MODIFIED:20250820T185847Z
UID:37837-1757030400-1757289599@www.ncifm.com
SUMMARY:30th Annual Double B Agricultural Festival
DESCRIPTION:Make sure you head on down to the Co-Op Community Complex in Beausejour\, Manitoba for the 30th Annual Double B Agricultural Festival! \nEnjoy the middway\, chainsaw carvers display\, farmers market and more! Plus\, Saturday at 2pm\, you can see the amazing Al Simmons! Find more information at brokenheadag.ca
URL:https://www.ncifm.com/event/30th-annual-double-b-agricultural-festival/
END:VEVENT
BEGIN:VEVENT
DTSTART;TZID=America/Winnipeg:20250905T080000
DTEND;TZID=America/Winnipeg:20250907T170000
DTSTAMP:20260421T065129
CREATED:20250826T164931Z
LAST-MODIFIED:20250826T164931Z
UID:37884-1757059200-1757264400@www.ncifm.com
SUMMARY:30th Annual Double B Agricultural Festival
DESCRIPTION:Make sure you head on down to the Co-Op Community Complex in Beausejour\, Manitoba for the 30th Annual Double B Agricultural Festival! And you could win your way in by listening to NCI FM! Tune in every day this week (August 25th-29th) for your chance to win!\n\n\nEnjoy the middway\, chainsaw carvers display\, farmers market and more! Plus\, Saturday at 2pm\, you can see the amazing Al Simmons! Find more information at https://brokenheadag.ca/events/festival/
URL:https://www.ncifm.com/event/30th-annual-double-b-agricultural-festival-2/
LOCATION:Co-op community Complex\, Beausejour\, Manitoba\, Canada
END:VEVENT
BEGIN:VEVENT
DTSTART;TZID=America/Winnipeg:20250905T190000
DTEND;TZID=America/Winnipeg:20250905T230000
DTSTAMP:20260421T065129
CREATED:20250827T202537Z
LAST-MODIFIED:20250827T202537Z
UID:37890-1757098800-1757113200@www.ncifm.com
SUMMARY:Brett Kissel
DESCRIPTION:Brett Kissel is bringing it back to Winnipeg! He will be live at the Club Regent Event Centre on September 5th\, 2025! Make sure you’re listening to NCI FM for your chance to win your way in!  \n-OR- \nClick here to get your tickets!
URL:https://www.ncifm.com/event/brett-kissel/
LOCATION:Club Regent Event Centre\, 1425 Regent Ave. W\, Winnipeg\, Manitoba\, R2C 3BC\, Canada
END:VEVENT
END:VCALENDAR