BEGIN:VCALENDAR
VERSION:2.0
PRODID:-//NCI FM - ECPv6.8.3//NONSGML v1.0//EN
CALSCALE:GREGORIAN
METHOD:PUBLISH
X-WR-CALNAME:NCI FM
X-ORIGINAL-URL:https://www.ncifm.com
X-WR-CALDESC:Events for NCI FM
REFRESH-INTERVAL;VALUE=DURATION:PT1H
X-Robots-Tag:noindex
X-PUBLISHED-TTL:PT1H
BEGIN:VTIMEZONE
TZID:America/Winnipeg
BEGIN:DAYLIGHT
TZOFFSETFROM:-0600
TZOFFSETTO:-0500
TZNAME:CDT
DTSTART:20250309T080000
END:DAYLIGHT
BEGIN:STANDARD
TZOFFSETFROM:-0500
TZOFFSETTO:-0600
TZNAME:CST
DTSTART:20251102T070000
END:STANDARD
END:VTIMEZONE
BEGIN:VEVENT
DTSTART;TZID=America/Winnipeg:20250920T090000
DTEND;TZID=America/Winnipeg:20250920T160000
DTSTAMP:20260421T065128
CREATED:20250826T160231Z
LAST-MODIFIED:20250826T164621Z
UID:37881-1758358800-1758384000@www.ncifm.com
SUMMARY:Town of Winnipeg Beach - Under the Boardwalk - Show N' Shine
DESCRIPTION:On September 20th\, 2025\, head on down to the Town of Winnipeg Beach for their Under the Boardwalk Show N’ Shine! \nCheck out the Show N’ Shine Market\, activities for the kids\, Food Connection BBQ and more! \nFor more information visit the Town of Winnipeg Beach Website!
URL:https://www.ncifm.com/event/town-of-winnipeg-beach-under-the-boardwalk-show-n-shine/
LOCATION:Winnipeg Beach\, Manitoba\, Canada
END:VEVENT
END:VCALENDAR