BEGIN:VCALENDAR
VERSION:2.0
PRODID:-//NCI FM - ECPv6.8.3//NONSGML v1.0//EN
CALSCALE:GREGORIAN
METHOD:PUBLISH
X-ORIGINAL-URL:https://www.ncifm.com
X-WR-CALDESC:Events for NCI FM
REFRESH-INTERVAL;VALUE=DURATION:PT1H
X-Robots-Tag:noindex
X-PUBLISHED-TTL:PT1H
BEGIN:VTIMEZONE
TZID:America/Winnipeg
BEGIN:DAYLIGHT
TZOFFSETFROM:-0600
TZOFFSETTO:-0500
TZNAME:CDT
DTSTART:20250309T080000
END:DAYLIGHT
BEGIN:STANDARD
TZOFFSETFROM:-0500
TZOFFSETTO:-0600
TZNAME:CST
DTSTART:20251102T070000
END:STANDARD
END:VTIMEZONE
BEGIN:VEVENT
DTSTART;TZID=America/Winnipeg:20250923T190000
DTEND;TZID=America/Winnipeg:20250924T220000
DTSTAMP:20260421T065343
CREATED:20250912T214013Z
LAST-MODIFIED:20250912T214013Z
UID:38030-1758654000-1758751200@www.ncifm.com
SUMMARY:Bear Grease
DESCRIPTION:Star Chief Lifestyle presents the First Nation sensation — Bear Grease! \nLive at the historic Burton Cummings Theatre\, September 23rd and 24th at 7 PM! \nDon’t miss this electrifying Indigenous take on a classic story\, with music\, laughter\, and unforgettable performances. \nTickets are on sale now through Ticketmaster. For more info\, call 204-250-1546 or email starchieflifestyle@gmail.com. \nBear Grease — it’s the show everyone will be talking about!
URL:https://www.ncifm.com/event/bear-grease-2/
LOCATION:Burton Cummings Theatre\, 364 Smith St\, Winnipeg\, Manitoba\, Canada
END:VEVENT
END:VCALENDAR