BEGIN:VCALENDAR
VERSION:2.0
PRODID:-//NCI FM - ECPv6.8.3//NONSGML v1.0//EN
CALSCALE:GREGORIAN
METHOD:PUBLISH
X-WR-CALNAME:NCI FM
X-ORIGINAL-URL:https://www.ncifm.com
X-WR-CALDESC:Events for NCI FM
REFRESH-INTERVAL;VALUE=DURATION:PT1H
X-Robots-Tag:noindex
X-PUBLISHED-TTL:PT1H
BEGIN:VTIMEZONE
TZID:America/Winnipeg
BEGIN:DAYLIGHT
TZOFFSETFROM:-0600
TZOFFSETTO:-0500
TZNAME:CDT
DTSTART:20250309T080000
END:DAYLIGHT
BEGIN:STANDARD
TZOFFSETFROM:-0500
TZOFFSETTO:-0600
TZNAME:CST
DTSTART:20251102T070000
END:STANDARD
END:VTIMEZONE
BEGIN:VEVENT
DTSTART;TZID=America/Winnipeg:20250926T080000
DTEND;TZID=America/Winnipeg:20250927T170000
DTSTAMP:20260421T065140
CREATED:20250902T155938Z
LAST-MODIFIED:20250902T155938Z
UID:37958-1758873600-1758992400@www.ncifm.com
SUMMARY:St’uxwtews 2 Rivers Remix 2025
DESCRIPTION:A FREE 2-Day Movable Feast of Contemporary Indigenous Music\, Art and Culture at Historic Hat Creek Ranch\, St’uxwtews/Cache Creek\, BC! \nNow proudly operated by the St’uxwtews Pesuten Heritage Society in collaboration with the Bonaparte First Nation\, Historic Hat Creek Ranch Provincial Site explores the rich tapestry of the history\, stories\, and traditions of the St’uxwtews Pesuten People. \nFeatured Indigenous artists include: Secwepemc’s own Intergenerational healing roots-rhizome\, hip-hop fusionists THE MELAWMEN COLLECTIVE\, face-melting Calgary-based duo MIESHA AND THE SPANKS (Secwépemc)\, viral sensation DRIVES THE COMMON MAN (Mi`kmaq) and MORE! \n 
URL:https://www.ncifm.com/event/stuxwtews-2-rivers-remix-2025/
END:VEVENT
END:VCALENDAR