BEGIN:VCALENDAR
VERSION:2.0
PRODID:-//NCI FM - ECPv6.8.3//NONSGML v1.0//EN
CALSCALE:GREGORIAN
METHOD:PUBLISH
X-WR-CALNAME:NCI FM
X-ORIGINAL-URL:https://www.ncifm.com
X-WR-CALDESC:Events for NCI FM
REFRESH-INTERVAL;VALUE=DURATION:PT1H
X-Robots-Tag:noindex
X-PUBLISHED-TTL:PT1H
BEGIN:VTIMEZONE
TZID:America/Winnipeg
BEGIN:DAYLIGHT
TZOFFSETFROM:-0600
TZOFFSETTO:-0500
TZNAME:CDT
DTSTART:20250309T080000
END:DAYLIGHT
BEGIN:STANDARD
TZOFFSETFROM:-0500
TZOFFSETTO:-0600
TZNAME:CST
DTSTART:20251102T070000
END:STANDARD
END:VTIMEZONE
BEGIN:VEVENT
DTSTART;TZID=America/Winnipeg:20250814T170000
DTEND;TZID=America/Winnipeg:20250814T230000
DTSTAMP:20260421T034835
CREATED:20250415T180735Z
LAST-MODIFIED:20250415T180735Z
UID:36674-1755190800-1755212400@www.ncifm.com
SUMMARY:The Burt Block Party (Thursday)
DESCRIPTION:The Burt Block Party is back for another year! On Thursday\, August 14th\, 2025\, catch their Country Night lineup\, including Dean Brody\, Owen Riegling\, Hailey Benedict and Brandi Vezina! \nGet your tickets and find more information here!
URL:https://www.ncifm.com/event/the-burt-block-party-thursday/
LOCATION:Burton Cummings Theatre\, 364 Smith St\, Winnipeg\, Manitoba\, Canada
END:VEVENT
BEGIN:VEVENT
DTSTART;TZID=America/Winnipeg:20250815T170000
DTEND;TZID=America/Winnipeg:20250815T230000
DTSTAMP:20260421T034835
CREATED:20250415T180849Z
LAST-MODIFIED:20250415T180849Z
UID:36676-1755277200-1755298800@www.ncifm.com
SUMMARY:The Burt Block Party (Friday)
DESCRIPTION:On Friday night\, August 15th at the Burt Block Party\, you can see Marianas Trench\, Down With Webster\, Fefe Dobson and more!  \nGet your tickets and find more information here!
URL:https://www.ncifm.com/event/the-burt-block-party-friday/
LOCATION:Burton Cummings Theatre\, 364 Smith St\, Winnipeg\, Manitoba\, Canada
END:VEVENT
BEGIN:VEVENT
DTSTART;TZID=America/Winnipeg:20250816T080000
DTEND;TZID=America/Winnipeg:20250824T170000
DTSTAMP:20260421T034835
CREATED:20250807T133914Z
LAST-MODIFIED:20250807T133951Z
UID:37700-1755331200-1756054800@www.ncifm.com
SUMMARY:World Archery Youth Championship
DESCRIPTION:From August 16-24\, 2025\, Winnipeg will bring together the world’s best young archers to compete\, showcase their skills\, and celebrate the spirit of archery. We wish all participants the best of luck! \nWorld Archery Youth Championship
URL:https://www.ncifm.com/event/world-archery-youth-championship/
END:VEVENT
BEGIN:VEVENT
DTSTART;TZID=America/Winnipeg:20250816T140000
DTEND;TZID=America/Winnipeg:20250817T230000
DTSTAMP:20260421T034835
CREATED:20250721T175443Z
LAST-MODIFIED:20250721T175443Z
UID:37520-1755352800-1755471600@www.ncifm.com
SUMMARY:2025 Teulon International Truck & Tractor Pull
DESCRIPTION:Check out the Teulon International Truck & Tractor Pull at the Teulon Green Acres Park on Saturday\, August 16th and Sunday\, August 17th 2025! Don’t miss the Lions Club Barbeque and the Famous Teulon Curling Club Barley Gardens!
URL:https://www.ncifm.com/event/2025-teulon-international-truck-tractor-pull/
LOCATION:Teulon Green Acres Park\, Teulon\, Manitoba\, Canada
END:VEVENT
BEGIN:VEVENT
DTSTART;TZID=America/Winnipeg:20250816T170000
DTEND;TZID=America/Winnipeg:20250816T230000
DTSTAMP:20260421T034835
CREATED:20250415T180936Z
LAST-MODIFIED:20250415T180936Z
UID:36678-1755363600-1755385200@www.ncifm.com
SUMMARY:The Burt Block Party (Saturday)
DESCRIPTION:On the Saturday of the Burt Block Party\, August 16th\, see The Glorious Sons\, Everclear\, JJ Wilde and special guests! \nGet your tickets and find more information here!
URL:https://www.ncifm.com/event/the-burt-block-party-saturday/
LOCATION:Burton Cummings Theatre\, 364 Smith St\, Winnipeg\, Manitoba\, Canada
END:VEVENT
BEGIN:VEVENT
DTSTART;TZID=America/Winnipeg:20250817T170000
DTEND;TZID=America/Winnipeg:20250817T230000
DTSTAMP:20260421T034835
CREATED:20250415T181030Z
LAST-MODIFIED:20250415T181030Z
UID:36680-1755450000-1755471600@www.ncifm.com
SUMMARY:The Burt Block Party (Sunday)
DESCRIPTION:On the last day of the Burt Block Party (Sunday\, August 17th) make sure you check out Kim Mitchell\, Chilliwack\, Harlequin and guests!  \nGet your tickets and find more information here!
URL:https://www.ncifm.com/event/the-burt-block-party-sunday/
LOCATION:Burton Cummings Theatre\, 364 Smith St\, Winnipeg\, Manitoba\, Canada
END:VEVENT
BEGIN:VEVENT
DTSTART;TZID=America/Winnipeg:20250819T080000
DTEND;TZID=America/Winnipeg:20250819T170000
DTSTAMP:20260421T034835
CREATED:20250819T142835Z
LAST-MODIFIED:20250819T142835Z
UID:37824-1755590400-1755622800@www.ncifm.com
SUMMARY:Flo Rida
DESCRIPTION:Flo Rida returns to Winnipeg’s Canada Life Centre Oct. 1\, 2025 with special guest Kardinal Offishall!\nTickets go on sale Friday\, Aug. 22 at 10 a.m. at Ticketmaster.ca\nListen to NCI FM all week (August 19th-22nd) to Beat The Box Office!
URL:https://www.ncifm.com/event/flo-rida/
END:VEVENT
END:VCALENDAR